BEGIN:VCALENDAR
VERSION:2.0
PRODID:-//wp-events-plugin.com//7.2.3.1//EN
BEGIN:VEVENT
UID:1@tx.groupshootmeetup.com
DTSTART:20240331T190000Z
DTEND:20240331T213000Z
DTSTAMP:20240331T174124Z
URL:https://tx.groupshootmeetup.com/events/gsm-tx-1st-event/
SUMMARY:GSM TX 1st Event
DESCRIPTION:GSM Events Texas!\n\nWelcome to GSM Events! Started in SoCal ab
 out 8 years ago\, GSM (Group Shoot Meetup) has grown from cost to cost\, w
 ith locations in LA\, OC\, I.E.\, Menifee\, San Diego to upper CA with loc
 ations in the San Fransisco areas! Recently GSM events also opened up loca
 tions in NY\, TN and now TX!!! Thousands and Thousands of photographers fr
 om all over the country can attend photography events in a fun and nurturi
 ng nature. Share your skill with others or come learn from those with year
 s of experience!\n\nAs our company was built on using models at almost all
  events\, it still holds true to this day! As we are new to the area we're
  not only looking to added photography members to our events\, but local a
 nd traveling models as well! If you know of a fit females (18 to 30 lookin
 g) that might be interested in modeling - This is the place!\n(they can su
 bmit on my personal sit at:  https://fantcimage.com/) Also my portfolio.\
 n\nSo it has become a tradition\, when opening up a new area to do a FREE 
 event\, welcoming all the community to come and shoot. All we ask is a $20
  donation (cash at the event) for our featured model.\n\nWe will have thre
 e segments for this event:\n#1 Fashion (Nice dress)\n#2 Sexy Casual (Think
  Daisy Duke!)\n#3 After group you can book a model for an optional 1on1 (B
 ring a little extra cash) to shoot all by your self! (about $30 - $40)\n\n
 Where and when? We will meet at the large parking lot (see the X) at 1PM. 
 This looks like a very large location\, so we recommend arriving early to 
 find the best parking spot!\n\n\n\nFeatured Model\nMiranda - Host and Mode
 l\nGuest Models\nAlecia\nGuest Models will be invited!\n\n[gallery link="f
 ile" size="medium" ids="77\,79\,75\,95\,96\,97"]\n\nMake sure you are sign
 ed in with a FREE account and RSVP below!\n\n&nbsp\;
LOCATION:Kickerillo-Mischer Preserve\, 20215 Chasewood Park Dr\, Houston\, 
 Texas\, 77070\, United States
X-APPLE-STRUCTURED-LOCATION;VALUE=URI;X-ADDRESS=20215 Chasewood Park Dr\, H
 ouston\, Texas\, 77070\, United States;X-APPLE-RADIUS=100;X-TITLE=Kickeril
 lo-Mischer Preserve:geo:0,0
END:VEVENT
END:VCALENDAR